BEGIN:VCALENDAR
PRODID:-//Pixl8//Eventfolio//EN
VERSION:2.0
X-WR-TIMEZONE:Europe/London
CALSCALE:GREGORIAN
METHOD:PUBLISH
CLASS:PUBLIC
BEGIN:VTIMEZONE
TZID:Europe/London
LAST-MODIFIED:20260306T231828Z
TZURL:https://www.tzurl.org/zoneinfo-outlook/Europe/London
X-LIC-LOCATION:Europe/London
BEGIN:DAYLIGHT
TZNAME:BST
TZOFFSETFROM:+0000
TZOFFSETTO:+0100
DTSTART:19700329T010000
RRULE:FREQ=YEARLY;BYMONTH=3;BYDAY=-1SU
END:DAYLIGHT
BEGIN:STANDARD
TZNAME:GMT
TZOFFSETFROM:+0100
TZOFFSETTO:+0000
DTSTART:19701025T020000
RRULE:FREQ=YEARLY;BYMONTH=10;BYDAY=-1SU
END:STANDARD
END:VTIMEZONE
BEGIN:VEVENT
DTSTART;TZID=Europe/London:20240706T130000
DTEND;TZID=Europe/London:20240706T200000
DTSTAMP:20260424T212312Z
UID:{55F8DC94-C6AA-4162-B861AEF0E1617CC2}
LOCATION:
SUMMARY:Wonders of Egypt
DESCRIPTION:Explore new perspectives of Egypt's ancient wonders in this hybrid study day featuring EES President Doris Behrens-Abouseif and award-winning historian Bettany Hughes. Start time: 13:00 (UK).\n
 \n
 Event details: https://www.ees.ac.uk/whats-on/events/wonders-of-egypt.html
PRIORITY:1
END:VEVENT
END:VCALENDAR