BEGIN:VCALENDAR
PRODID:-//Pixl8//Eventfolio//EN
VERSION:2.0
X-WR-TIMEZONE:Europe/London
CALSCALE:GREGORIAN
METHOD:PUBLISH
CLASS:PUBLIC
BEGIN:VTIMEZONE
TZID:Europe/London
LAST-MODIFIED:20260306T231828Z
TZURL:https://www.tzurl.org/zoneinfo-outlook/Europe/London
X-LIC-LOCATION:Europe/London
BEGIN:DAYLIGHT
TZNAME:BST
TZOFFSETFROM:+0000
TZOFFSETTO:+0100
DTSTART:19700329T010000
RRULE:FREQ=YEARLY;BYMONTH=3;BYDAY=-1SU
END:DAYLIGHT
BEGIN:STANDARD
TZNAME:GMT
TZOFFSETFROM:+0100
TZOFFSETTO:+0000
DTSTART:19701025T020000
RRULE:FREQ=YEARLY;BYMONTH=10;BYDAY=-1SU
END:STANDARD
END:VTIMEZONE
BEGIN:VEVENT
DTSTART;TZID=Europe/London:20240507T130000
DTEND;TZID=Europe/London:20240507T140000
DTSTAMP:20260424T234232Z
UID:{175398F6-513C-435E-A3981834DFDA6F96}
LOCATION:
SUMMARY:Tutankhamun: Excavating the Archive
DESCRIPTION:Dr Daniela Rosenow illustrates a first-hand account of Tutankhamun's discovery by Howard Carter and his team, 150 years after Carter's birth. Start time: 13:00 (UK) / 17:00 (Egypt)\n
 \n
 Event details: https://www.ees.ac.uk/whats-on/events/tutankhamun-excavating-the-archive.html
PRIORITY:1
END:VEVENT
END:VCALENDAR