BEGIN:VCALENDAR
PRODID:-//Pixl8//Eventfolio//EN
VERSION:2.0
X-WR-TIMEZONE:Europe/London
CALSCALE:GREGORIAN
METHOD:PUBLISH
CLASS:PUBLIC
BEGIN:VTIMEZONE
TZID:Europe/London
LAST-MODIFIED:20260306T231828Z
TZURL:https://www.tzurl.org/zoneinfo-outlook/Europe/London
X-LIC-LOCATION:Europe/London
BEGIN:DAYLIGHT
TZNAME:BST
TZOFFSETFROM:+0000
TZOFFSETTO:+0100
DTSTART:19700329T010000
RRULE:FREQ=YEARLY;BYMONTH=3;BYDAY=-1SU
END:DAYLIGHT
BEGIN:STANDARD
TZNAME:GMT
TZOFFSETFROM:+0100
TZOFFSETTO:+0000
DTSTART:19701025T020000
RRULE:FREQ=YEARLY;BYMONTH=10;BYDAY=-1SU
END:STANDARD
END:VTIMEZONE
BEGIN:VEVENT
DTSTART;TZID=Europe/London:20250227T180000
DTEND;TZID=Europe/London:20250227T193000
DTSTAMP:20260420T144802Z
UID:{595B599E-6D58-4DD2-A6CA074547224102.45715}
LOCATION:Online via Zoom
SUMMARY:There’s <i>heka</i> in the air: magic in ancient Egypt 
DESCRIPTION:Join Kelly Accetta Crowe to delve into mythology, texts, archaeology, and religion, by exploring the evolution of heka (magic) in ancient Egypt. Start time - 18:00 (UK) / 20:00 (Egypt)\n
 \n
 Event details: https://www.ees.ac.uk/whats-on/events/theres-heka-in-the-air-magic-in-ancient-egypt.html
PRIORITY:1
END:VEVENT
BEGIN:VEVENT
DTSTART;TZID=Europe/London:20250306T180000
DTEND;TZID=Europe/London:20250306T193000
DTSTAMP:20260420T144802Z
UID:{595B599E-6D58-4DD2-A6CA074547224102.45722}
LOCATION:Online via Zoom
SUMMARY:There’s <i>heka</i> in the air: magic in ancient Egypt 
DESCRIPTION:Join Kelly Accetta Crowe to delve into mythology, texts, archaeology, and religion, by exploring the evolution of heka (magic) in ancient Egypt. Start time - 18:00 (UK) / 20:00 (Egypt)\n
 \n
 Event details: https://www.ees.ac.uk/whats-on/events/theres-heka-in-the-air-magic-in-ancient-egypt.html
PRIORITY:1
END:VEVENT
BEGIN:VEVENT
DTSTART;TZID=Europe/London:20250313T180000
DTEND;TZID=Europe/London:20250313T193000
DTSTAMP:20260420T144802Z
UID:{595B599E-6D58-4DD2-A6CA074547224102.45729}
LOCATION:Online via Zoom
SUMMARY:There’s <i>heka</i> in the air: magic in ancient Egypt 
DESCRIPTION:Join Kelly Accetta Crowe to delve into mythology, texts, archaeology, and religion, by exploring the evolution of heka (magic) in ancient Egypt. Start time - 18:00 (UK) / 20:00 (Egypt)\n
 \n
 Event details: https://www.ees.ac.uk/whats-on/events/theres-heka-in-the-air-magic-in-ancient-egypt.html
PRIORITY:1
END:VEVENT
BEGIN:VEVENT
DTSTART;TZID=Europe/London:20250320T180000
DTEND;TZID=Europe/London:20250320T193000
DTSTAMP:20260420T144802Z
UID:{595B599E-6D58-4DD2-A6CA074547224102.45736}
LOCATION:Online via Zoom
SUMMARY:There’s <i>heka</i> in the air: magic in ancient Egypt 
DESCRIPTION:Join Kelly Accetta Crowe to delve into mythology, texts, archaeology, and religion, by exploring the evolution of heka (magic) in ancient Egypt. Start time - 18:00 (UK) / 20:00 (Egypt)\n
 \n
 Event details: https://www.ees.ac.uk/whats-on/events/theres-heka-in-the-air-magic-in-ancient-egypt.html
PRIORITY:1
END:VEVENT
BEGIN:VEVENT
DTSTART;TZID=Europe/London:20250327T180000
DTEND;TZID=Europe/London:20250327T193000
DTSTAMP:20260420T144802Z
UID:{595B599E-6D58-4DD2-A6CA074547224102.45743}
LOCATION:Online via Zoom
SUMMARY:There’s <i>heka</i> in the air: magic in ancient Egypt 
DESCRIPTION:Join Kelly Accetta Crowe to delve into mythology, texts, archaeology, and religion, by exploring the evolution of heka (magic) in ancient Egypt. Start time - 18:00 (UK) / 20:00 (Egypt)\n
 \n
 Event details: https://www.ees.ac.uk/whats-on/events/theres-heka-in-the-air-magic-in-ancient-egypt.html
PRIORITY:1
END:VEVENT
END:VCALENDAR