BEGIN:VCALENDAR
PRODID:-//Pixl8//Eventfolio//EN
VERSION:2.0
X-WR-TIMEZONE:Europe/London
CALSCALE:GREGORIAN
METHOD:PUBLISH
CLASS:PUBLIC
BEGIN:VTIMEZONE
TZID:Europe/London
LAST-MODIFIED:20260306T231828Z
TZURL:https://www.tzurl.org/zoneinfo-outlook/Europe/London
X-LIC-LOCATION:Europe/London
BEGIN:DAYLIGHT
TZNAME:BST
TZOFFSETFROM:+0000
TZOFFSETTO:+0100
DTSTART:19700329T010000
RRULE:FREQ=YEARLY;BYMONTH=3;BYDAY=-1SU
END:DAYLIGHT
BEGIN:STANDARD
TZNAME:GMT
TZOFFSETFROM:+0100
TZOFFSETTO:+0000
DTSTART:19701025T020000
RRULE:FREQ=YEARLY;BYMONTH=10;BYDAY=-1SU
END:STANDARD
END:VTIMEZONE
BEGIN:VEVENT
DTSTART;TZID=Europe/London:20251113T180000
DTEND;TZID=Europe/London:20251113T193000
DTSTAMP:20260423T115613Z
UID:{0F2C0CD4-7EF7-4EB6-90889BFE75A2B843.45974}
LOCATION:Online via Zoom
SUMMARY:The Ancient Egyptian Afterlife
DESCRIPTION:Uncover the role of funerary texts and objects in burial beliefs with Christina Geisen, whilst learning how the ancient Egyptians envisioned death and immortality. Start time - 18:00 (UK) / 20:00 (Egypt)\n
 \n
 Event details: https://www.ees.ac.uk/whats-on/events/the-ancient-egyptian-afterlife.html
PRIORITY:1
END:VEVENT
BEGIN:VEVENT
DTSTART;TZID=Europe/London:20251120T180000
DTEND;TZID=Europe/London:20251120T193000
DTSTAMP:20260423T115613Z
UID:{0F2C0CD4-7EF7-4EB6-90889BFE75A2B843.45981}
LOCATION:Online via Zoom
SUMMARY:The Ancient Egyptian Afterlife
DESCRIPTION:Uncover the role of funerary texts and objects in burial beliefs with Christina Geisen, whilst learning how the ancient Egyptians envisioned death and immortality. Start time - 18:00 (UK) / 20:00 (Egypt)\n
 \n
 Event details: https://www.ees.ac.uk/whats-on/events/the-ancient-egyptian-afterlife.html
PRIORITY:1
END:VEVENT
BEGIN:VEVENT
DTSTART;TZID=Europe/London:20251127T180000
DTEND;TZID=Europe/London:20251127T193000
DTSTAMP:20260423T115613Z
UID:{0F2C0CD4-7EF7-4EB6-90889BFE75A2B843.45988}
LOCATION:Online via Zoom
SUMMARY:The Ancient Egyptian Afterlife
DESCRIPTION:Uncover the role of funerary texts and objects in burial beliefs with Christina Geisen, whilst learning how the ancient Egyptians envisioned death and immortality. Start time - 18:00 (UK) / 20:00 (Egypt)\n
 \n
 Event details: https://www.ees.ac.uk/whats-on/events/the-ancient-egyptian-afterlife.html
PRIORITY:1
END:VEVENT
BEGIN:VEVENT
DTSTART;TZID=Europe/London:20251204T180000
DTEND;TZID=Europe/London:20251204T193000
DTSTAMP:20260423T115613Z
UID:{0F2C0CD4-7EF7-4EB6-90889BFE75A2B843.45995}
LOCATION:Online via Zoom
SUMMARY:The Ancient Egyptian Afterlife
DESCRIPTION:Uncover the role of funerary texts and objects in burial beliefs with Christina Geisen, whilst learning how the ancient Egyptians envisioned death and immortality. Start time - 18:00 (UK) / 20:00 (Egypt)\n
 \n
 Event details: https://www.ees.ac.uk/whats-on/events/the-ancient-egyptian-afterlife.html
PRIORITY:1
END:VEVENT
BEGIN:VEVENT
DTSTART;TZID=Europe/London:20251211T180000
DTEND;TZID=Europe/London:20251211T193000
DTSTAMP:20260423T115613Z
UID:{0F2C0CD4-7EF7-4EB6-90889BFE75A2B843.46002}
LOCATION:Online via Zoom
SUMMARY:The Ancient Egyptian Afterlife
DESCRIPTION:Uncover the role of funerary texts and objects in burial beliefs with Christina Geisen, whilst learning how the ancient Egyptians envisioned death and immortality. Start time - 18:00 (UK) / 20:00 (Egypt)\n
 \n
 Event details: https://www.ees.ac.uk/whats-on/events/the-ancient-egyptian-afterlife.html
PRIORITY:1
END:VEVENT
END:VCALENDAR