BEGIN:VCALENDAR
PRODID:-//Pixl8//Eventfolio//EN
VERSION:2.0
X-WR-TIMEZONE:Europe/London
CALSCALE:GREGORIAN
METHOD:PUBLISH
CLASS:PUBLIC
BEGIN:VTIMEZONE
TZID:Europe/London
LAST-MODIFIED:20260306T231828Z
TZURL:https://www.tzurl.org/zoneinfo-outlook/Europe/London
X-LIC-LOCATION:Europe/London
BEGIN:DAYLIGHT
TZNAME:BST
TZOFFSETFROM:+0000
TZOFFSETTO:+0100
DTSTART:19700329T010000
RRULE:FREQ=YEARLY;BYMONTH=3;BYDAY=-1SU
END:DAYLIGHT
BEGIN:STANDARD
TZNAME:GMT
TZOFFSETFROM:+0100
TZOFFSETTO:+0000
DTSTART:19701025T020000
RRULE:FREQ=YEARLY;BYMONTH=10;BYDAY=-1SU
END:STANDARD
END:VTIMEZONE
BEGIN:VEVENT
DTSTART;TZID=Europe/London:20250522T180000
DTEND;TZID=Europe/London:20250522T193000
DTSTAMP:20260423T015158Z
UID:{4B74A18D-97B2-46BA-B04652EF8E8AFE10.45799}
LOCATION:Online via Zoom
SUMMARY:Pharaoh at War: Warfare In The Late Dynastic Period
DESCRIPTION:Go to war with the ancient Egyptians – and their Greek allies – during the Late Dynastic Period with Dr Nicky Nielsen. Start time - 18:00 (UK) / 20:00 (Egypt)\n
 \n
 Event details: https://www.ees.ac.uk/whats-on/events/pharaoh-at-war-ii.html
PRIORITY:1
END:VEVENT
BEGIN:VEVENT
DTSTART;TZID=Europe/London:20250529T180000
DTEND;TZID=Europe/London:20250529T193000
DTSTAMP:20260423T015158Z
UID:{4B74A18D-97B2-46BA-B04652EF8E8AFE10.45806}
LOCATION:Online via Zoom
SUMMARY:Pharaoh at War: Warfare In The Late Dynastic Period
DESCRIPTION:Go to war with the ancient Egyptians – and their Greek allies – during the Late Dynastic Period with Dr Nicky Nielsen. Start time - 18:00 (UK) / 20:00 (Egypt)\n
 \n
 Event details: https://www.ees.ac.uk/whats-on/events/pharaoh-at-war-ii.html
PRIORITY:1
END:VEVENT
BEGIN:VEVENT
DTSTART;TZID=Europe/London:20250605T180000
DTEND;TZID=Europe/London:20250605T193000
DTSTAMP:20260423T015158Z
UID:{4B74A18D-97B2-46BA-B04652EF8E8AFE10.45813}
LOCATION:Online via Zoom
SUMMARY:Pharaoh at War: Warfare In The Late Dynastic Period
DESCRIPTION:Go to war with the ancient Egyptians – and their Greek allies – during the Late Dynastic Period with Dr Nicky Nielsen. Start time - 18:00 (UK) / 20:00 (Egypt)\n
 \n
 Event details: https://www.ees.ac.uk/whats-on/events/pharaoh-at-war-ii.html
PRIORITY:1
END:VEVENT
BEGIN:VEVENT
DTSTART;TZID=Europe/London:20250612T180000
DTEND;TZID=Europe/London:20250612T193000
DTSTAMP:20260423T015158Z
UID:{4B74A18D-97B2-46BA-B04652EF8E8AFE10.45820}
LOCATION:Online via Zoom
SUMMARY:Pharaoh at War: Warfare In The Late Dynastic Period
DESCRIPTION:Go to war with the ancient Egyptians – and their Greek allies – during the Late Dynastic Period with Dr Nicky Nielsen. Start time - 18:00 (UK) / 20:00 (Egypt)\n
 \n
 Event details: https://www.ees.ac.uk/whats-on/events/pharaoh-at-war-ii.html
PRIORITY:1
END:VEVENT
BEGIN:VEVENT
DTSTART;TZID=Europe/London:20250619T180000
DTEND;TZID=Europe/London:20250619T193000
DTSTAMP:20260423T015158Z
UID:{4B74A18D-97B2-46BA-B04652EF8E8AFE10.45827}
LOCATION:Online via Zoom
SUMMARY:Pharaoh at War: Warfare In The Late Dynastic Period
DESCRIPTION:Go to war with the ancient Egyptians – and their Greek allies – during the Late Dynastic Period with Dr Nicky Nielsen. Start time - 18:00 (UK) / 20:00 (Egypt)\n
 \n
 Event details: https://www.ees.ac.uk/whats-on/events/pharaoh-at-war-ii.html
PRIORITY:1
END:VEVENT
END:VCALENDAR