BEGIN:VCALENDAR
PRODID:-//Pixl8//Eventfolio//EN
VERSION:2.0
X-WR-TIMEZONE:Europe/London
CALSCALE:GREGORIAN
METHOD:PUBLISH
CLASS:PUBLIC
BEGIN:VTIMEZONE
TZID:Europe/London
LAST-MODIFIED:20260306T231828Z
TZURL:https://www.tzurl.org/zoneinfo-outlook/Europe/London
X-LIC-LOCATION:Europe/London
BEGIN:DAYLIGHT
TZNAME:BST
TZOFFSETFROM:+0000
TZOFFSETTO:+0100
DTSTART:19700329T010000
RRULE:FREQ=YEARLY;BYMONTH=3;BYDAY=-1SU
END:DAYLIGHT
BEGIN:STANDARD
TZNAME:GMT
TZOFFSETFROM:+0100
TZOFFSETTO:+0000
DTSTART:19701025T020000
RRULE:FREQ=YEARLY;BYMONTH=10;BYDAY=-1SU
END:STANDARD
END:VTIMEZONE
BEGIN:VEVENT
DTSTART;TZID=Europe/London:20240613T180000
DTEND;TZID=Europe/London:20240613T193000
DTSTAMP:20260423T054254Z
UID:{6218414A-5B2C-4324-BBABE2AEAAEB5262.45456}
LOCATION:Online via Zoom
SUMMARY:Pharaoh at War!
DESCRIPTION:Follow along as we take a look at armies and warfare in ancient Egypt with Dr Nicky Nielsen. Start time - 18:00 (UK) / 20:00 (Egypt)\n
 \n
 Event details: https://www.ees.ac.uk/whats-on/events/pharaoh-at-war.html
PRIORITY:1
END:VEVENT
BEGIN:VEVENT
DTSTART;TZID=Europe/London:20240620T180000
DTEND;TZID=Europe/London:20240620T193000
DTSTAMP:20260423T054254Z
UID:{6218414A-5B2C-4324-BBABE2AEAAEB5262.45463}
LOCATION:Online via Zoom
SUMMARY:Pharaoh at War!
DESCRIPTION:Follow along as we take a look at armies and warfare in ancient Egypt with Dr Nicky Nielsen. Start time - 18:00 (UK) / 20:00 (Egypt)\n
 \n
 Event details: https://www.ees.ac.uk/whats-on/events/pharaoh-at-war.html
PRIORITY:1
END:VEVENT
BEGIN:VEVENT
DTSTART;TZID=Europe/London:20240627T180000
DTEND;TZID=Europe/London:20240627T193000
DTSTAMP:20260423T054254Z
UID:{6218414A-5B2C-4324-BBABE2AEAAEB5262.45470}
LOCATION:Online via Zoom
SUMMARY:Pharaoh at War!
DESCRIPTION:Follow along as we take a look at armies and warfare in ancient Egypt with Dr Nicky Nielsen. Start time - 18:00 (UK) / 20:00 (Egypt)\n
 \n
 Event details: https://www.ees.ac.uk/whats-on/events/pharaoh-at-war.html
PRIORITY:1
END:VEVENT
BEGIN:VEVENT
DTSTART;TZID=Europe/London:20240704T180000
DTEND;TZID=Europe/London:20240704T193000
DTSTAMP:20260423T054254Z
UID:{6218414A-5B2C-4324-BBABE2AEAAEB5262.45477}
LOCATION:Online via Zoom
SUMMARY:Pharaoh at War!
DESCRIPTION:Follow along as we take a look at armies and warfare in ancient Egypt with Dr Nicky Nielsen. Start time - 18:00 (UK) / 20:00 (Egypt)\n
 \n
 Event details: https://www.ees.ac.uk/whats-on/events/pharaoh-at-war.html
PRIORITY:1
END:VEVENT
BEGIN:VEVENT
DTSTART;TZID=Europe/London:20240711T180000
DTEND;TZID=Europe/London:20240711T193000
DTSTAMP:20260423T054254Z
UID:{6218414A-5B2C-4324-BBABE2AEAAEB5262.45484}
LOCATION:Online via Zoom
SUMMARY:Pharaoh at War!
DESCRIPTION:Follow along as we take a look at armies and warfare in ancient Egypt with Dr Nicky Nielsen. Start time - 18:00 (UK) / 20:00 (Egypt)\n
 \n
 Event details: https://www.ees.ac.uk/whats-on/events/pharaoh-at-war.html
PRIORITY:1
END:VEVENT
END:VCALENDAR