BEGIN:VCALENDAR
PRODID:-//Pixl8//Eventfolio//EN
VERSION:2.0
X-WR-TIMEZONE:Africa/Cairo
CALSCALE:GREGORIAN
METHOD:PUBLISH
CLASS:PUBLIC
BEGIN:VTIMEZONE
TZID:Africa/Cairo
LAST-MODIFIED:20260306T231828Z
TZURL:https://www.tzurl.org/zoneinfo-outlook/Africa/Cairo
X-LIC-LOCATION:Africa/Cairo
BEGIN:DAYLIGHT
TZNAME:EEST
TZOFFSETFROM:+0200
TZOFFSETTO:+0300
DTSTART:19700424T000000
RRULE:FREQ=YEARLY;BYMONTH=4;BYDAY=-1FR
END:DAYLIGHT
BEGIN:STANDARD
TZNAME:EET
TZOFFSETFROM:+0300
TZOFFSETTO:+0200
DTSTART:19701030T000000
RRULE:FREQ=YEARLY;BYMONTH=10;BYDAY=-1FR
END:STANDARD
END:VTIMEZONE
BEGIN:VEVENT
DTSTART;TZID=Africa/Cairo:20250410T090000
DTEND;TZID=Africa/Cairo:20250410T180000
DTSTAMP:20260421T075924Z
UID:{91E8202F-33F2-48C1-A5EF070BCDE29F37}
LOCATION:
SUMMARY:Ninth Delta Survey Conference Day One
DESCRIPTION:Hybrid conference in partnership with the Ministry of Tourism and Antiquities, bringing together researchers working in the Egyptian Delta. Start time - 08:00 (UK) / 09:00 (Egypt)\n
 \n
 Event details: https://www.ees.ac.uk/whats-on/events/ninth-delta-survey-conference-day-one.html
PRIORITY:1
END:VEVENT
END:VCALENDAR