BEGIN:VCALENDAR
PRODID:-//Pixl8//Eventfolio//EN
VERSION:2.0
X-WR-TIMEZONE:Africa/Cairo
CALSCALE:GREGORIAN
METHOD:PUBLISH
CLASS:PUBLIC
BEGIN:VTIMEZONE
TZID:Africa/Cairo
LAST-MODIFIED:20260306T231828Z
TZURL:https://www.tzurl.org/zoneinfo-outlook/Africa/Cairo
X-LIC-LOCATION:Africa/Cairo
BEGIN:DAYLIGHT
TZNAME:EEST
TZOFFSETFROM:+0200
TZOFFSETTO:+0300
DTSTART:19700424T000000
RRULE:FREQ=YEARLY;BYMONTH=4;BYDAY=-1FR
END:DAYLIGHT
BEGIN:STANDARD
TZNAME:EET
TZOFFSETFROM:+0300
TZOFFSETTO:+0200
DTSTART:19701030T000000
RRULE:FREQ=YEARLY;BYMONTH=10;BYDAY=-1FR
END:STANDARD
END:VTIMEZONE
BEGIN:VEVENT
DTSTART;TZID=Africa/Cairo:20240810T110000
DTEND;TZID=Africa/Cairo:20240810T150000
DTSTAMP:20260426T005942Z
UID:{C106EB02-80AF-414A-956DB607A76B7B3C.45514}
LOCATION:Spring Room\, British Council\, 192 Sharia El Nil\, Agouza\, Cairo\, Spring Room\, British Council\, 192 Sharia El Nil\, Agouza\, Cairo
SUMMARY:Museum Skills School
DESCRIPTION:This summer school will introduce basic knowledge of museum work and necessary skills in the museum field. Start time - 11:00 (Egypt) on Saturdays\n
 \n
 Event details: https://www.ees.ac.uk/whats-on/events/museum-skills-school.html
PRIORITY:1
END:VEVENT
BEGIN:VEVENT
DTSTART;TZID=Africa/Cairo:20240811T150000
DTEND;TZID=Africa/Cairo:20240811T210000
DTSTAMP:20260426T005942Z
UID:{C106EB02-80AF-414A-956DB607A76B7B3C.45515}
LOCATION:Spring Room\, British Council\, 192 Sharia El Nil\, Agouza\, Cairo\, Spring Room\, British Council\, 192 Sharia El Nil\, Agouza\, Cairo
SUMMARY:Museum Skills School
DESCRIPTION:This summer school will introduce basic knowledge of museum work and necessary skills in the museum field. Start time - 11:00 (Egypt) on Saturdays\n
 \n
 Event details: https://www.ees.ac.uk/whats-on/events/museum-skills-school.html
PRIORITY:1
END:VEVENT
BEGIN:VEVENT
DTSTART;TZID=Africa/Cairo:20240812T150000
DTEND;TZID=Africa/Cairo:20240812T210000
DTSTAMP:20260426T005942Z
UID:{C106EB02-80AF-414A-956DB607A76B7B3C.45516}
LOCATION:Spring Room\, British Council\, 192 Sharia El Nil\, Agouza\, Cairo\, Spring Room\, British Council\, 192 Sharia El Nil\, Agouza\, Cairo
SUMMARY:Museum Skills School
DESCRIPTION:This summer school will introduce basic knowledge of museum work and necessary skills in the museum field. Start time - 11:00 (Egypt) on Saturdays\n
 \n
 Event details: https://www.ees.ac.uk/whats-on/events/museum-skills-school.html
PRIORITY:1
END:VEVENT
BEGIN:VEVENT
DTSTART;TZID=Africa/Cairo:20240813T150000
DTEND;TZID=Africa/Cairo:20240813T210000
DTSTAMP:20260426T005942Z
UID:{C106EB02-80AF-414A-956DB607A76B7B3C.45517}
LOCATION:Spring Room\, British Council\, 192 Sharia El Nil\, Agouza\, Cairo\, Spring Room\, British Council\, 192 Sharia El Nil\, Agouza\, Cairo
SUMMARY:Museum Skills School
DESCRIPTION:This summer school will introduce basic knowledge of museum work and necessary skills in the museum field. Start time - 11:00 (Egypt) on Saturdays\n
 \n
 Event details: https://www.ees.ac.uk/whats-on/events/museum-skills-school.html
PRIORITY:1
END:VEVENT
BEGIN:VEVENT
DTSTART;TZID=Africa/Cairo:20240814T150000
DTEND;TZID=Africa/Cairo:20240814T210000
DTSTAMP:20260426T005942Z
UID:{C106EB02-80AF-414A-956DB607A76B7B3C.45518}
LOCATION:Spring Room\, British Council\, 192 Sharia El Nil\, Agouza\, Cairo\, Spring Room\, British Council\, 192 Sharia El Nil\, Agouza\, Cairo
SUMMARY:Museum Skills School
DESCRIPTION:This summer school will introduce basic knowledge of museum work and necessary skills in the museum field. Start time - 11:00 (Egypt) on Saturdays\n
 \n
 Event details: https://www.ees.ac.uk/whats-on/events/museum-skills-school.html
PRIORITY:1
END:VEVENT
BEGIN:VEVENT
DTSTART;TZID=Africa/Cairo:20240817T110000
DTEND;TZID=Africa/Cairo:20240817T150000
DTSTAMP:20260426T005942Z
UID:{C106EB02-80AF-414A-956DB607A76B7B3C.45521}
LOCATION:Spring Room\, British Council\, 192 Sharia El Nil\, Agouza\, Cairo\, Spring Room\, British Council\, 192 Sharia El Nil\, Agouza\, Cairo
SUMMARY:Museum Skills School
DESCRIPTION:This summer school will introduce basic knowledge of museum work and necessary skills in the museum field. Start time - 11:00 (Egypt) on Saturdays\n
 \n
 Event details: https://www.ees.ac.uk/whats-on/events/museum-skills-school.html
PRIORITY:1
END:VEVENT
BEGIN:VEVENT
DTSTART;TZID=Africa/Cairo:20240824T110000
DTEND;TZID=Africa/Cairo:20240824T150000
DTSTAMP:20260426T005942Z
UID:{C106EB02-80AF-414A-956DB607A76B7B3C.45528}
LOCATION:Spring Room\, British Council\, 192 Sharia El Nil\, Agouza\, Cairo\, Spring Room\, British Council\, 192 Sharia El Nil\, Agouza\, Cairo
SUMMARY:Museum Skills School
DESCRIPTION:This summer school will introduce basic knowledge of museum work and necessary skills in the museum field. Start time - 11:00 (Egypt) on Saturdays\n
 \n
 Event details: https://www.ees.ac.uk/whats-on/events/museum-skills-school.html
PRIORITY:1
END:VEVENT
BEGIN:VEVENT
DTSTART;TZID=Africa/Cairo:20240831T110000
DTEND;TZID=Africa/Cairo:20240831T150000
DTSTAMP:20260426T005942Z
UID:{C106EB02-80AF-414A-956DB607A76B7B3C.45535}
LOCATION:Spring Room\, British Council\, 192 Sharia El Nil\, Agouza\, Cairo\, Spring Room\, British Council\, 192 Sharia El Nil\, Agouza\, Cairo
SUMMARY:Museum Skills School
DESCRIPTION:This summer school will introduce basic knowledge of museum work and necessary skills in the museum field. Start time - 11:00 (Egypt) on Saturdays\n
 \n
 Event details: https://www.ees.ac.uk/whats-on/events/museum-skills-school.html
PRIORITY:1
END:VEVENT
BEGIN:VEVENT
DTSTART;TZID=Africa/Cairo:20240907T110000
DTEND;TZID=Africa/Cairo:20240907T150000
DTSTAMP:20260426T005942Z
UID:{C106EB02-80AF-414A-956DB607A76B7B3C.45542}
LOCATION:Spring Room\, British Council\, 192 Sharia El Nil\, Agouza\, Cairo\, Spring Room\, British Council\, 192 Sharia El Nil\, Agouza\, Cairo
SUMMARY:Museum Skills School
DESCRIPTION:This summer school will introduce basic knowledge of museum work and necessary skills in the museum field. Start time - 11:00 (Egypt) on Saturdays\n
 \n
 Event details: https://www.ees.ac.uk/whats-on/events/museum-skills-school.html
PRIORITY:1
END:VEVENT
BEGIN:VEVENT
DTSTART;TZID=Africa/Cairo:20240914T110000
DTEND;TZID=Africa/Cairo:20240914T150000
DTSTAMP:20260426T005942Z
UID:{C106EB02-80AF-414A-956DB607A76B7B3C.45549}
LOCATION:Spring Room\, British Council\, 192 Sharia El Nil\, Agouza\, Cairo\, Spring Room\, British Council\, 192 Sharia El Nil\, Agouza\, Cairo
SUMMARY:Museum Skills School
DESCRIPTION:This summer school will introduce basic knowledge of museum work and necessary skills in the museum field. Start time - 11:00 (Egypt) on Saturdays\n
 \n
 Event details: https://www.ees.ac.uk/whats-on/events/museum-skills-school.html
PRIORITY:1
END:VEVENT
BEGIN:VEVENT
DTSTART;TZID=Africa/Cairo:20240921T110000
DTEND;TZID=Africa/Cairo:20240921T150000
DTSTAMP:20260426T005942Z
UID:{C106EB02-80AF-414A-956DB607A76B7B3C.45556}
LOCATION:Spring Room\, British Council\, 192 Sharia El Nil\, Agouza\, Cairo\, Spring Room\, British Council\, 192 Sharia El Nil\, Agouza\, Cairo
SUMMARY:Museum Skills School
DESCRIPTION:This summer school will introduce basic knowledge of museum work and necessary skills in the museum field. Start time - 11:00 (Egypt) on Saturdays\n
 \n
 Event details: https://www.ees.ac.uk/whats-on/events/museum-skills-school.html
PRIORITY:1
END:VEVENT
BEGIN:VEVENT
DTSTART;TZID=Africa/Cairo:20240928T110000
DTEND;TZID=Africa/Cairo:20240928T150000
DTSTAMP:20260426T005942Z
UID:{C106EB02-80AF-414A-956DB607A76B7B3C.45563}
LOCATION:Spring Room\, British Council\, 192 Sharia El Nil\, Agouza\, Cairo\, Spring Room\, British Council\, 192 Sharia El Nil\, Agouza\, Cairo
SUMMARY:Museum Skills School
DESCRIPTION:This summer school will introduce basic knowledge of museum work and necessary skills in the museum field. Start time - 11:00 (Egypt) on Saturdays\n
 \n
 Event details: https://www.ees.ac.uk/whats-on/events/museum-skills-school.html
PRIORITY:1
END:VEVENT
END:VCALENDAR