BEGIN:VCALENDAR
PRODID:-//Pixl8//Eventfolio//EN
VERSION:2.0
X-WR-TIMEZONE:Europe/London
CALSCALE:GREGORIAN
METHOD:PUBLISH
CLASS:PUBLIC
BEGIN:VTIMEZONE
TZID:Europe/London
LAST-MODIFIED:20260306T231828Z
TZURL:https://www.tzurl.org/zoneinfo-outlook/Europe/London
X-LIC-LOCATION:Europe/London
BEGIN:DAYLIGHT
TZNAME:BST
TZOFFSETFROM:+0000
TZOFFSETTO:+0100
DTSTART:19700329T010000
RRULE:FREQ=YEARLY;BYMONTH=3;BYDAY=-1SU
END:DAYLIGHT
BEGIN:STANDARD
TZNAME:GMT
TZOFFSETFROM:+0100
TZOFFSETTO:+0000
DTSTART:19701025T020000
RRULE:FREQ=YEARLY;BYMONTH=10;BYDAY=-1SU
END:STANDARD
END:VTIMEZONE
BEGIN:VEVENT
DTSTART;TZID=Europe/London:20250726T110000
DTEND;TZID=Europe/London:20250726T150000
DTSTAMP:20260423T120226Z
UID:{3C9A0CFC-92A4-4582-B3A780B2336179A9.45864}
LOCATION:Online via Zoom
SUMMARY:Middle Egyptian Text Reading: An all-Egyptian hero; Ahmose son of Ebana
DESCRIPTION:Read the autobiography of Ahmose, son of Ebana, as written on the walls of his tomb in El-Kab with Joseph Clayton on two Saturday afternoons. Start time: 11:00 (UK) / 13:00 (Egypt)\n
 \n
 Event details: https://www.ees.ac.uk/whats-on/events/middle-egyptian-text-reading-july25.html
PRIORITY:1
END:VEVENT
BEGIN:VEVENT
DTSTART;TZID=Europe/London:20250802T110000
DTEND;TZID=Europe/London:20250802T150000
DTSTAMP:20260423T120226Z
UID:{3C9A0CFC-92A4-4582-B3A780B2336179A9.45871}
LOCATION:Online via Zoom
SUMMARY:Middle Egyptian Text Reading: An all-Egyptian hero; Ahmose son of Ebana
DESCRIPTION:Read the autobiography of Ahmose, son of Ebana, as written on the walls of his tomb in El-Kab with Joseph Clayton on two Saturday afternoons. Start time: 11:00 (UK) / 13:00 (Egypt)\n
 \n
 Event details: https://www.ees.ac.uk/whats-on/events/middle-egyptian-text-reading-july25.html
PRIORITY:1
END:VEVENT
END:VCALENDAR