BEGIN:VCALENDAR
PRODID:-//Pixl8//Eventfolio//EN
VERSION:2.0
X-WR-TIMEZONE:Europe/London
CALSCALE:GREGORIAN
METHOD:PUBLISH
CLASS:PUBLIC
BEGIN:VTIMEZONE
TZID:Europe/London
LAST-MODIFIED:20260306T231828Z
TZURL:https://www.tzurl.org/zoneinfo-outlook/Europe/London
X-LIC-LOCATION:Europe/London
BEGIN:DAYLIGHT
TZNAME:BST
TZOFFSETFROM:+0000
TZOFFSETTO:+0100
DTSTART:19700329T010000
RRULE:FREQ=YEARLY;BYMONTH=3;BYDAY=-1SU
END:DAYLIGHT
BEGIN:STANDARD
TZNAME:GMT
TZOFFSETFROM:+0100
TZOFFSETTO:+0000
DTSTART:19701025T020000
RRULE:FREQ=YEARLY;BYMONTH=10;BYDAY=-1SU
END:STANDARD
END:VTIMEZONE
BEGIN:VEVENT
DTSTART;TZID=Europe/London:20260203T130000
DTEND;TZID=Europe/London:20260203T140000
DTSTAMP:20260424T115427Z
UID:{D64C1E6C-C0A6-4573-9D0C50E839CF2BF1}
LOCATION:
SUMMARY:Judge like an Egyptian: Legal processes and dramas in the Pharaonic courts
DESCRIPTION:Alex Loktionov provides a short introduction to the ideas and institutions that shaped Ancient Egyptian justice. Start time: 13:00 (UK) / 15:00 (Egypt)\n
 \n
 Event details: https://www.ees.ac.uk/whats-on/events/judge-like-an-egyptian.html
PRIORITY:1
END:VEVENT
END:VCALENDAR