BEGIN:VCALENDAR
PRODID:-//Pixl8//Eventfolio//EN
VERSION:2.0
X-WR-TIMEZONE:Europe/London
CALSCALE:GREGORIAN
METHOD:PUBLISH
CLASS:PUBLIC
BEGIN:VTIMEZONE
TZID:Europe/London
LAST-MODIFIED:20260306T231828Z
TZURL:https://www.tzurl.org/zoneinfo-outlook/Europe/London
X-LIC-LOCATION:Europe/London
BEGIN:DAYLIGHT
TZNAME:BST
TZOFFSETFROM:+0000
TZOFFSETTO:+0100
DTSTART:19700329T010000
RRULE:FREQ=YEARLY;BYMONTH=3;BYDAY=-1SU
END:DAYLIGHT
BEGIN:STANDARD
TZNAME:GMT
TZOFFSETFROM:+0100
TZOFFSETTO:+0000
DTSTART:19701025T020000
RRULE:FREQ=YEARLY;BYMONTH=10;BYDAY=-1SU
END:STANDARD
END:VTIMEZONE
BEGIN:VEVENT
DTSTART;TZID=Europe/London;VALUE=DATE:20250917
DTEND;TZID=Europe/London;VALUE=DATE:20250918
DTSTAMP:20260424T222029Z
UID:{6BA63108-28D8-4416-808E12DC311009B3.45917}
LOCATION:1pm – 2.30pm GMT + recordings
SUMMARY:Introduction to Geographic Information Systems (GIS) for Egyptologists
DESCRIPTION:Gain a basic understanding of the nature and operation of a GIS and how it can be used in Egyptian archaeology with Hannah Pethen. Start time: 13:00 (UK) / 15:00 (Egypt)\n
 \n
 Event details: https://www.ees.ac.uk/whats-on/events/introduction-to-gis-for-egyptologists-25.html
PRIORITY:1
END:VEVENT
BEGIN:VEVENT
DTSTART;TZID=Europe/London;VALUE=DATE:20250924
DTEND;TZID=Europe/London;VALUE=DATE:20250925
DTSTAMP:20260424T222029Z
UID:{6BA63108-28D8-4416-808E12DC311009B3.45924}
LOCATION:1pm – 2.30pm GMT + recordings
SUMMARY:Introduction to Geographic Information Systems (GIS) for Egyptologists
DESCRIPTION:Gain a basic understanding of the nature and operation of a GIS and how it can be used in Egyptian archaeology with Hannah Pethen. Start time: 13:00 (UK) / 15:00 (Egypt)\n
 \n
 Event details: https://www.ees.ac.uk/whats-on/events/introduction-to-gis-for-egyptologists-25.html
PRIORITY:1
END:VEVENT
BEGIN:VEVENT
DTSTART;TZID=Europe/London;VALUE=DATE:20251001
DTEND;TZID=Europe/London;VALUE=DATE:20251002
DTSTAMP:20260424T222029Z
UID:{6BA63108-28D8-4416-808E12DC311009B3.45931}
LOCATION:1pm – 2.30pm GMT + recordings
SUMMARY:Introduction to Geographic Information Systems (GIS) for Egyptologists
DESCRIPTION:Gain a basic understanding of the nature and operation of a GIS and how it can be used in Egyptian archaeology with Hannah Pethen. Start time: 13:00 (UK) / 15:00 (Egypt)\n
 \n
 Event details: https://www.ees.ac.uk/whats-on/events/introduction-to-gis-for-egyptologists-25.html
PRIORITY:1
END:VEVENT
END:VCALENDAR