BEGIN:VCALENDAR
PRODID:-//Pixl8//Eventfolio//EN
VERSION:2.0
X-WR-TIMEZONE:Europe/London
CALSCALE:GREGORIAN
METHOD:PUBLISH
CLASS:PUBLIC
BEGIN:VTIMEZONE
TZID:Europe/London
LAST-MODIFIED:20260306T231828Z
TZURL:https://www.tzurl.org/zoneinfo-outlook/Europe/London
X-LIC-LOCATION:Europe/London
BEGIN:DAYLIGHT
TZNAME:BST
TZOFFSETFROM:+0000
TZOFFSETTO:+0100
DTSTART:19700329T010000
RRULE:FREQ=YEARLY;BYMONTH=3;BYDAY=-1SU
END:DAYLIGHT
BEGIN:STANDARD
TZNAME:GMT
TZOFFSETFROM:+0100
TZOFFSETTO:+0000
DTSTART:19701025T020000
RRULE:FREQ=YEARLY;BYMONTH=10;BYDAY=-1SU
END:STANDARD
END:VTIMEZONE
BEGIN:VEVENT
DTSTART;TZID=Europe/London:20250531T130000
DTEND;TZID=Europe/London:20250531T180000
DTSTAMP:20260423T115720Z
UID:{583C681B-ADC2-4FD8-809696F03D4C4F5C}
LOCATION:The British Museum\, Great Russell Street\, London\, WC1B 3DG; Honey & Co. Studio\, 47 Lamb’s Conduit Street\, London\, WC1N 3NG
SUMMARY:Handling Bureaucracy
DESCRIPTION:Visit the British Museum to explore Egyptian administration and sealing practices, then recreate them yourself using clay and replica scarabs at the Honey & Co. Studio. Start time: 13:00 (UK)\n
 \n
 Event details: https://www.ees.ac.uk/whats-on/events/handling-bureaucracy.html
PRIORITY:1
END:VEVENT
END:VCALENDAR