BEGIN:VCALENDAR
PRODID:-//Pixl8//Eventfolio//EN
VERSION:2.0
X-WR-TIMEZONE:Europe/London
CALSCALE:GREGORIAN
METHOD:PUBLISH
CLASS:PUBLIC
BEGIN:VTIMEZONE
TZID:Europe/London
LAST-MODIFIED:20260306T231828Z
TZURL:https://www.tzurl.org/zoneinfo-outlook/Europe/London
X-LIC-LOCATION:Europe/London
BEGIN:DAYLIGHT
TZNAME:BST
TZOFFSETFROM:+0000
TZOFFSETTO:+0100
DTSTART:19700329T010000
RRULE:FREQ=YEARLY;BYMONTH=3;BYDAY=-1SU
END:DAYLIGHT
BEGIN:STANDARD
TZNAME:GMT
TZOFFSETFROM:+0100
TZOFFSETTO:+0000
DTSTART:19701025T020000
RRULE:FREQ=YEARLY;BYMONTH=10;BYDAY=-1SU
END:STANDARD
END:VTIMEZONE
BEGIN:VEVENT
DTSTART;TZID=Europe/London:20251128T181500
DTEND;TZID=Europe/London:20251128T210000
DTSTAMP:20260423T120624Z
UID:{032B0EA5-E9A6-4721-8DC607FF9B68FE77}
LOCATION:Curzon Centre\, Westgate Centre\, Oxford\, OX1 1NZ
SUMMARY:Free Screening: The First Hymn
DESCRIPTION:Join the external event by Wycliffe Hall, Oxford, for the UK premiere of The First Hymn. Having breathed new life into this ancient song, this historic documentary will be screened, charting the story of the hymn's journey from discovery to performance. Start time: 18:15 (UK)\n
 \n
 Event details: https://www.ees.ac.uk/whats-on/events/free-screening-the-first-hymn.html
PRIORITY:1
END:VEVENT
END:VCALENDAR