BEGIN:VCALENDAR
PRODID:-//Pixl8//Eventfolio//EN
VERSION:2.0
X-WR-TIMEZONE:Europe/London
CALSCALE:GREGORIAN
METHOD:PUBLISH
CLASS:PUBLIC
BEGIN:VTIMEZONE
TZID:Europe/London
LAST-MODIFIED:20260306T231828Z
TZURL:https://www.tzurl.org/zoneinfo-outlook/Europe/London
X-LIC-LOCATION:Europe/London
BEGIN:DAYLIGHT
TZNAME:BST
TZOFFSETFROM:+0000
TZOFFSETTO:+0100
DTSTART:19700329T010000
RRULE:FREQ=YEARLY;BYMONTH=3;BYDAY=-1SU
END:DAYLIGHT
BEGIN:STANDARD
TZNAME:GMT
TZOFFSETFROM:+0100
TZOFFSETTO:+0000
DTSTART:19701025T020000
RRULE:FREQ=YEARLY;BYMONTH=10;BYDAY=-1SU
END:STANDARD
END:VTIMEZONE
BEGIN:VEVENT
DTSTART;TZID=Europe/London:20240815T180000
DTEND;TZID=Europe/London:20240815T193000
DTSTAMP:20260424T113602Z
UID:{683DC169-429D-4A51-97BD15E01FA1E5E1.45519}
LOCATION:Online via Zoom
SUMMARY:Egypt in the Age of Cleopatra
DESCRIPTION:Joint EES, SPRS and SPHS Online Course: Professor Colin Adams will trace the history of Egypt from Ptolemaic Kingdom to Roman Province. Start time - 18:00 (UK) / 20:00 (Egypt)\n
 \n
 Event details: https://www.ees.ac.uk/whats-on/events/egypt-in-the-age-of-cleopatra.html
PRIORITY:1
END:VEVENT
BEGIN:VEVENT
DTSTART;TZID=Europe/London:20240822T180000
DTEND;TZID=Europe/London:20240822T193000
DTSTAMP:20260424T113602Z
UID:{683DC169-429D-4A51-97BD15E01FA1E5E1.45526}
LOCATION:Online via Zoom
SUMMARY:Egypt in the Age of Cleopatra
DESCRIPTION:Joint EES, SPRS and SPHS Online Course: Professor Colin Adams will trace the history of Egypt from Ptolemaic Kingdom to Roman Province. Start time - 18:00 (UK) / 20:00 (Egypt)\n
 \n
 Event details: https://www.ees.ac.uk/whats-on/events/egypt-in-the-age-of-cleopatra.html
PRIORITY:1
END:VEVENT
BEGIN:VEVENT
DTSTART;TZID=Europe/London:20240829T180000
DTEND;TZID=Europe/London:20240829T193000
DTSTAMP:20260424T113602Z
UID:{683DC169-429D-4A51-97BD15E01FA1E5E1.45533}
LOCATION:Online via Zoom
SUMMARY:Egypt in the Age of Cleopatra
DESCRIPTION:Joint EES, SPRS and SPHS Online Course: Professor Colin Adams will trace the history of Egypt from Ptolemaic Kingdom to Roman Province. Start time - 18:00 (UK) / 20:00 (Egypt)\n
 \n
 Event details: https://www.ees.ac.uk/whats-on/events/egypt-in-the-age-of-cleopatra.html
PRIORITY:1
END:VEVENT
BEGIN:VEVENT
DTSTART;TZID=Europe/London:20240905T180000
DTEND;TZID=Europe/London:20240905T193000
DTSTAMP:20260424T113602Z
UID:{683DC169-429D-4A51-97BD15E01FA1E5E1.45540}
LOCATION:Online via Zoom
SUMMARY:Egypt in the Age of Cleopatra
DESCRIPTION:Joint EES, SPRS and SPHS Online Course: Professor Colin Adams will trace the history of Egypt from Ptolemaic Kingdom to Roman Province. Start time - 18:00 (UK) / 20:00 (Egypt)\n
 \n
 Event details: https://www.ees.ac.uk/whats-on/events/egypt-in-the-age-of-cleopatra.html
PRIORITY:1
END:VEVENT
BEGIN:VEVENT
DTSTART;TZID=Europe/London:20240912T180000
DTEND;TZID=Europe/London:20240912T193000
DTSTAMP:20260424T113602Z
UID:{683DC169-429D-4A51-97BD15E01FA1E5E1.45547}
LOCATION:Online via Zoom
SUMMARY:Egypt in the Age of Cleopatra
DESCRIPTION:Joint EES, SPRS and SPHS Online Course: Professor Colin Adams will trace the history of Egypt from Ptolemaic Kingdom to Roman Province. Start time - 18:00 (UK) / 20:00 (Egypt)\n
 \n
 Event details: https://www.ees.ac.uk/whats-on/events/egypt-in-the-age-of-cleopatra.html
PRIORITY:1
END:VEVENT
END:VCALENDAR