BEGIN:VCALENDAR
PRODID:-//Pixl8//Eventfolio//EN
VERSION:2.0
X-WR-TIMEZONE:Europe/London
CALSCALE:GREGORIAN
METHOD:PUBLISH
CLASS:PUBLIC
BEGIN:VTIMEZONE
TZID:Europe/London
LAST-MODIFIED:20260306T231828Z
TZURL:https://www.tzurl.org/zoneinfo-outlook/Europe/London
X-LIC-LOCATION:Europe/London
BEGIN:DAYLIGHT
TZNAME:BST
TZOFFSETFROM:+0000
TZOFFSETTO:+0100
DTSTART:19700329T010000
RRULE:FREQ=YEARLY;BYMONTH=3;BYDAY=-1SU
END:DAYLIGHT
BEGIN:STANDARD
TZNAME:GMT
TZOFFSETFROM:+0100
TZOFFSETTO:+0000
DTSTART:19701025T020000
RRULE:FREQ=YEARLY;BYMONTH=10;BYDAY=-1SU
END:STANDARD
END:VTIMEZONE
BEGIN:VEVENT
DTSTART;TZID=Europe/London:20240902T090000
DTEND;TZID=Europe/London:20240906T170000
DTSTAMP:20260424T070939Z
UID:{22D490CA-F500-4A93-890709225FD2F990}
LOCATION:University of Liverpool\, Central Teaching Hub (CTH)\, Off Brownlow Hill\, Liverpool\, L69 7BX
SUMMARY:Current Research in Egyptology (CRE) 2024
DESCRIPTION:An annual postgraduate conference, facilitating research between British and international universities conducting research in Egyptology, or related fields of study.\n
 \n
 Event details: https://www.ees.ac.uk/whats-on/events/current-research-in-egyptology-cre-2024.html
PRIORITY:1
END:VEVENT
END:VCALENDAR