BEGIN:VCALENDAR
PRODID:-//Pixl8//Eventfolio//EN
VERSION:2.0
X-WR-TIMEZONE:Europe/London
CALSCALE:GREGORIAN
METHOD:PUBLISH
CLASS:PUBLIC
BEGIN:VTIMEZONE
TZID:Europe/London
LAST-MODIFIED:20260306T231828Z
TZURL:https://www.tzurl.org/zoneinfo-outlook/Europe/London
X-LIC-LOCATION:Europe/London
BEGIN:DAYLIGHT
TZNAME:BST
TZOFFSETFROM:+0000
TZOFFSETTO:+0100
DTSTART:19700329T010000
RRULE:FREQ=YEARLY;BYMONTH=3;BYDAY=-1SU
END:DAYLIGHT
BEGIN:STANDARD
TZNAME:GMT
TZOFFSETFROM:+0100
TZOFFSETTO:+0000
DTSTART:19701025T020000
RRULE:FREQ=YEARLY;BYMONTH=10;BYDAY=-1SU
END:STANDARD
END:VTIMEZONE
BEGIN:VEVENT
DTSTART;TZID=Europe/London:20250902T180000
DTEND;TZID=Europe/London:20250902T193000
DTSTAMP:20260423T170855Z
UID:{DE659F76-0C13-48A7-88C89A28232CE9A1.45902}
LOCATION:Online via Zoom
SUMMARY:Beyond Beginners Ancient Egyptian Hieroglyphs
DESCRIPTION:Join Joseph Clayton to build on the basics of ancient Egyptian hieroglyphs, and start reading inscriptions found on monuments and in museums. Start time - 18:00 (UK) / 20:00 (Egypt)\n
 \n
 Event details: https://www.ees.ac.uk/whats-on/events/beyond-beginners-ancient-egyptian-hieroglyphs-25.html
PRIORITY:1
END:VEVENT
BEGIN:VEVENT
DTSTART;TZID=Europe/London:20250909T180000
DTEND;TZID=Europe/London:20250909T193000
DTSTAMP:20260423T170855Z
UID:{DE659F76-0C13-48A7-88C89A28232CE9A1.45909}
LOCATION:Online via Zoom
SUMMARY:Beyond Beginners Ancient Egyptian Hieroglyphs
DESCRIPTION:Join Joseph Clayton to build on the basics of ancient Egyptian hieroglyphs, and start reading inscriptions found on monuments and in museums. Start time - 18:00 (UK) / 20:00 (Egypt)\n
 \n
 Event details: https://www.ees.ac.uk/whats-on/events/beyond-beginners-ancient-egyptian-hieroglyphs-25.html
PRIORITY:1
END:VEVENT
BEGIN:VEVENT
DTSTART;TZID=Europe/London:20250916T180000
DTEND;TZID=Europe/London:20250916T193000
DTSTAMP:20260423T170855Z
UID:{DE659F76-0C13-48A7-88C89A28232CE9A1.45916}
LOCATION:Online via Zoom
SUMMARY:Beyond Beginners Ancient Egyptian Hieroglyphs
DESCRIPTION:Join Joseph Clayton to build on the basics of ancient Egyptian hieroglyphs, and start reading inscriptions found on monuments and in museums. Start time - 18:00 (UK) / 20:00 (Egypt)\n
 \n
 Event details: https://www.ees.ac.uk/whats-on/events/beyond-beginners-ancient-egyptian-hieroglyphs-25.html
PRIORITY:1
END:VEVENT
BEGIN:VEVENT
DTSTART;TZID=Europe/London:20250923T180000
DTEND;TZID=Europe/London:20250923T193000
DTSTAMP:20260423T170855Z
UID:{DE659F76-0C13-48A7-88C89A28232CE9A1.45923}
LOCATION:Online via Zoom
SUMMARY:Beyond Beginners Ancient Egyptian Hieroglyphs
DESCRIPTION:Join Joseph Clayton to build on the basics of ancient Egyptian hieroglyphs, and start reading inscriptions found on monuments and in museums. Start time - 18:00 (UK) / 20:00 (Egypt)\n
 \n
 Event details: https://www.ees.ac.uk/whats-on/events/beyond-beginners-ancient-egyptian-hieroglyphs-25.html
PRIORITY:1
END:VEVENT
BEGIN:VEVENT
DTSTART;TZID=Europe/London:20250930T180000
DTEND;TZID=Europe/London:20250930T193000
DTSTAMP:20260423T170855Z
UID:{DE659F76-0C13-48A7-88C89A28232CE9A1.45930}
LOCATION:Online via Zoom
SUMMARY:Beyond Beginners Ancient Egyptian Hieroglyphs
DESCRIPTION:Join Joseph Clayton to build on the basics of ancient Egyptian hieroglyphs, and start reading inscriptions found on monuments and in museums. Start time - 18:00 (UK) / 20:00 (Egypt)\n
 \n
 Event details: https://www.ees.ac.uk/whats-on/events/beyond-beginners-ancient-egyptian-hieroglyphs-25.html
PRIORITY:1
END:VEVENT
END:VCALENDAR