BEGIN:VCALENDAR
PRODID:-//Pixl8//Eventfolio//EN
VERSION:2.0
X-WR-TIMEZONE:Europe/London
CALSCALE:GREGORIAN
METHOD:PUBLISH
CLASS:PUBLIC
BEGIN:VTIMEZONE
TZID:Europe/London
LAST-MODIFIED:20260306T231828Z
TZURL:https://www.tzurl.org/zoneinfo-outlook/Europe/London
X-LIC-LOCATION:Europe/London
BEGIN:DAYLIGHT
TZNAME:BST
TZOFFSETFROM:+0000
TZOFFSETTO:+0100
DTSTART:19700329T010000
RRULE:FREQ=YEARLY;BYMONTH=3;BYDAY=-1SU
END:DAYLIGHT
BEGIN:STANDARD
TZNAME:GMT
TZOFFSETFROM:+0100
TZOFFSETTO:+0000
DTSTART:19701025T020000
RRULE:FREQ=YEARLY;BYMONTH=10;BYDAY=-1SU
END:STANDARD
END:VTIMEZONE
BEGIN:VEVENT
DTSTART;TZID=Europe/London:20240910T180000
DTEND;TZID=Europe/London:20240910T193000
DTSTAMP:20260423T120029Z
UID:{A1C0D816-D27F-4092-B4C3968AA3B910E2.45545}
LOCATION:Online via Zoom
SUMMARY:Beyond Beginners Ancient Egyptian Hieroglyphs
DESCRIPTION:Join Joseph Clayton to build on the basics of ancient Egyptian hieroglyphs, and start reading inscriptions found on monuments and in museums. Start time - 18:00 (UK) / 20:00 (Egypt)\n
 \n
 Event details: https://www.ees.ac.uk/whats-on/events/beyond-beginners-ancient-egyptian-hieroglyphs-24.html
PRIORITY:1
END:VEVENT
BEGIN:VEVENT
DTSTART;TZID=Europe/London:20240917T180000
DTEND;TZID=Europe/London:20240917T193000
DTSTAMP:20260423T120029Z
UID:{A1C0D816-D27F-4092-B4C3968AA3B910E2.45552}
LOCATION:Online via Zoom
SUMMARY:Beyond Beginners Ancient Egyptian Hieroglyphs
DESCRIPTION:Join Joseph Clayton to build on the basics of ancient Egyptian hieroglyphs, and start reading inscriptions found on monuments and in museums. Start time - 18:00 (UK) / 20:00 (Egypt)\n
 \n
 Event details: https://www.ees.ac.uk/whats-on/events/beyond-beginners-ancient-egyptian-hieroglyphs-24.html
PRIORITY:1
END:VEVENT
BEGIN:VEVENT
DTSTART;TZID=Europe/London:20240924T180000
DTEND;TZID=Europe/London:20240924T193000
DTSTAMP:20260423T120029Z
UID:{A1C0D816-D27F-4092-B4C3968AA3B910E2.45559}
LOCATION:Online via Zoom
SUMMARY:Beyond Beginners Ancient Egyptian Hieroglyphs
DESCRIPTION:Join Joseph Clayton to build on the basics of ancient Egyptian hieroglyphs, and start reading inscriptions found on monuments and in museums. Start time - 18:00 (UK) / 20:00 (Egypt)\n
 \n
 Event details: https://www.ees.ac.uk/whats-on/events/beyond-beginners-ancient-egyptian-hieroglyphs-24.html
PRIORITY:1
END:VEVENT
BEGIN:VEVENT
DTSTART;TZID=Europe/London:20241001T180000
DTEND;TZID=Europe/London:20241001T193000
DTSTAMP:20260423T120029Z
UID:{A1C0D816-D27F-4092-B4C3968AA3B910E2.45566}
LOCATION:Online via Zoom
SUMMARY:Beyond Beginners Ancient Egyptian Hieroglyphs
DESCRIPTION:Join Joseph Clayton to build on the basics of ancient Egyptian hieroglyphs, and start reading inscriptions found on monuments and in museums. Start time - 18:00 (UK) / 20:00 (Egypt)\n
 \n
 Event details: https://www.ees.ac.uk/whats-on/events/beyond-beginners-ancient-egyptian-hieroglyphs-24.html
PRIORITY:1
END:VEVENT
BEGIN:VEVENT
DTSTART;TZID=Europe/London:20241008T180000
DTEND;TZID=Europe/London:20241008T193000
DTSTAMP:20260423T120029Z
UID:{A1C0D816-D27F-4092-B4C3968AA3B910E2.45573}
LOCATION:Online via Zoom
SUMMARY:Beyond Beginners Ancient Egyptian Hieroglyphs
DESCRIPTION:Join Joseph Clayton to build on the basics of ancient Egyptian hieroglyphs, and start reading inscriptions found on monuments and in museums. Start time - 18:00 (UK) / 20:00 (Egypt)\n
 \n
 Event details: https://www.ees.ac.uk/whats-on/events/beyond-beginners-ancient-egyptian-hieroglyphs-24.html
PRIORITY:1
END:VEVENT
END:VCALENDAR