BEGIN:VCALENDAR
PRODID:-//Pixl8//Eventfolio//EN
VERSION:2.0
X-WR-TIMEZONE:Europe/London
CALSCALE:GREGORIAN
METHOD:PUBLISH
CLASS:PUBLIC
BEGIN:VTIMEZONE
TZID:Europe/London
LAST-MODIFIED:20260306T231828Z
TZURL:https://www.tzurl.org/zoneinfo-outlook/Europe/London
X-LIC-LOCATION:Europe/London
BEGIN:DAYLIGHT
TZNAME:BST
TZOFFSETFROM:+0000
TZOFFSETTO:+0100
DTSTART:19700329T010000
RRULE:FREQ=YEARLY;BYMONTH=3;BYDAY=-1SU
END:DAYLIGHT
BEGIN:STANDARD
TZNAME:GMT
TZOFFSETFROM:+0100
TZOFFSETTO:+0000
DTSTART:19701025T020000
RRULE:FREQ=YEARLY;BYMONTH=10;BYDAY=-1SU
END:STANDARD
END:VTIMEZONE
BEGIN:VEVENT
DTSTART;TZID=Europe/London:20251014T180000
DTEND;TZID=Europe/London:20251014T193000
DTSTAMP:20260423T120203Z
UID:{3FDC50C5-FAC3-4D74-B5AE631859CA87C7}
LOCATION:
SUMMARY:Ancient Egypt in 50 Discoveries
DESCRIPTION:Watch our special launch event of our essential guide to the history of ancient Egypt through the lens of 50 fascinating discoveries made in the first century of excavations by the EES.\n
 \n
 Event details: https://www.ees.ac.uk/whats-on/events/ancient-egypt-in-50-discoveries.html
PRIORITY:1
END:VEVENT
END:VCALENDAR